Package: casper Version: 2.43.1 Command: rm -rf casper.buildbin-libdir && mkdir casper.buildbin-libdir && F:\biocbuild\bbs-3.22-bioc\R\bin\R.exe CMD INSTALL --build --library=casper.buildbin-libdir casper_2.43.1.tar.gz StartedAt: 2025-08-15 09:54:03 -0400 (Fri, 15 Aug 2025) EndedAt: 2025-08-15 09:56:03 -0400 (Fri, 15 Aug 2025) EllapsedTime: 119.8 seconds RetCode: 0 Status: OK PackageFile: casper_2.43.1.zip PackageFileSize: 3.276 MiB