Package: casper Version: 2.41.0 Command: rm -rf casper.buildbin-libdir && mkdir casper.buildbin-libdir && E:\biocbuild\bbs-3.21-bioc\R\bin\R.exe CMD INSTALL --build --library=casper.buildbin-libdir casper_2.41.0.tar.gz StartedAt: 2025-02-04 07:37:15 -0500 (Tue, 04 Feb 2025) EndedAt: 2025-02-04 07:40:14 -0500 (Tue, 04 Feb 2025) EllapsedTime: 178.5 seconds RetCode: 0 Status: OK PackageFile: casper_2.41.0.zip PackageFileSize: 3.266 MiB