Package: cardelino Version: 1.11.0 Command: /home/biocbuild/R/R/bin/R CMD build --keep-empty-dirs --no-resave-data cardelino StartedAt: 2025-10-09 23:17:22 -0000 (Thu, 09 Oct 2025) EndedAt: 2025-10-09 23:19:15 -0000 (Thu, 09 Oct 2025) EllapsedTime: 113.0 seconds RetCode: 0 Status: OK PackageFile: cardelino_1.11.0.tar.gz PackageFileSize: 3.213 MiB