Package: cardelino Version: 1.11.0 Command: /Library/Frameworks/R.framework/Resources/bin/R CMD check --install=check:cardelino.install-out.txt --library=/Library/Frameworks/R.framework/Resources/library --no-vignettes --timings cardelino_1.11.0.tar.gz StartedAt: 2025-04-29 19:29:08 -0400 (Tue, 29 Apr 2025) EndedAt: 2025-04-29 19:36:25 -0400 (Tue, 29 Apr 2025) EllapsedTime: 436.9 seconds RetCode: 0 Status: OK CheckDir: cardelino.Rcheck Warnings: 0