Package: cardelino Version: 1.11.0 Command: /Library/Frameworks/R.framework/Resources/bin/R CMD build --keep-empty-dirs --no-resave-data cardelino StartedAt: 2025-10-01 15:50:27 -0400 (Wed, 01 Oct 2025) EndedAt: 2025-10-01 15:51:00 -0400 (Wed, 01 Oct 2025) EllapsedTime: 33.4 seconds RetCode: 0 Status: OK PackageFile: cardelino_1.11.0.tar.gz PackageFileSize: 3.706 MiB