Package: cancerclass Version: 1.53.0 Command: F:\biocbuild\bbs-3.22-bioc\R\bin\R.exe CMD INSTALL cancerclass StartedAt: 2025-08-14 15:42:03 -0400 (Thu, 14 Aug 2025) EndedAt: 2025-08-14 15:42:38 -0400 (Thu, 14 Aug 2025) EllapsedTime: 34.9 seconds RetCode: 0 Status: OK