Package: canceR Version: 1.43.0 Command: /home/biocbuild/bbs-3.22-bioc/R/bin/R CMD INSTALL canceR StartedAt: 2025-10-03 15:56:32 -0400 (Fri, 03 Oct 2025) EndedAt: 2025-10-03 15:57:50 -0400 (Fri, 03 Oct 2025) EllapsedTime: 77.5 seconds RetCode: 0 Status: OK