Package: canceR Version: 1.41.0 Command: /Library/Frameworks/R.framework/Resources/bin/R CMD INSTALL canceR StartedAt: 2025-02-16 15:40:20 -0500 (Sun, 16 Feb 2025) EndedAt: 2025-02-16 15:42:30 -0500 (Sun, 16 Feb 2025) EllapsedTime: 129.7 seconds RetCode: 0 Status: OK