Package: canceR Version: 1.41.0 Command: /home/biocbuild/R/R/bin/R CMD INSTALL canceR StartedAt: 2025-01-29 20:29:58 -0000 (Wed, 29 Jan 2025) EndedAt: 2025-01-29 20:31:43 -0000 (Wed, 29 Jan 2025) EllapsedTime: 105.0 seconds RetCode: 0 Status: OK