Package: cageminer Version: 1.15.2 Command: /home/biocbuild/bbs-3.22-bioc/R/bin/R CMD INSTALL cageminer StartedAt: 2025-10-13 15:49:12 -0400 (Mon, 13 Oct 2025) EndedAt: 2025-10-13 15:50:05 -0400 (Mon, 13 Oct 2025) EllapsedTime: 52.9 seconds RetCode: 0 Status: OK