Package: cageminer Version: 1.15.2 Command: /home/biocbuild/bbs-3.22-bioc/R/bin/R CMD build --keep-empty-dirs --no-resave-data --md5 cageminer StartedAt: 2025-10-13 16:37:52 -0400 (Mon, 13 Oct 2025) EndedAt: 2025-10-13 16:40:14 -0400 (Mon, 13 Oct 2025) EllapsedTime: 142.1 seconds RetCode: 0 Status: OK PackageFile: cageminer_1.15.2.tar.gz PackageFileSize: 1.293 MiB