Package: cageminer Version: 1.15.0 Command: /Library/Frameworks/R.framework/Resources/bin/R CMD INSTALL cageminer StartedAt: 2025-05-07 15:38:22 -0400 (Wed, 07 May 2025) EndedAt: 2025-05-07 15:39:38 -0400 (Wed, 07 May 2025) EllapsedTime: 75.2 seconds RetCode: 0 Status: OK