Package: cageminer Version: 1.15.0 Command: rm -rf cageminer.buildbin-libdir && mkdir cageminer.buildbin-libdir && /Users/biocbuild/BBS/utils/build-universal.sh cageminer_1.15.0.tar.gz /Library/Frameworks/R.framework/Resources/bin/R cageminer.buildbin-libdir StartedAt: 2025-05-09 00:35:38 -0400 (Fri, 09 May 2025) EndedAt: 2025-05-09 00:36:56 -0400 (Fri, 09 May 2025) EllapsedTime: 78.6 seconds RetCode: 0 Status: OK PackageFile: cageminer_1.15.0.tgz PackageFileSize: 1.448 MiB