Package: cageminer Version: 1.15.0 Command: /Library/Frameworks/R.framework/Resources/bin/R CMD INSTALL cageminer StartedAt: 2025-04-30 15:24:44 -0400 (Wed, 30 Apr 2025) EndedAt: 2025-04-30 15:25:09 -0400 (Wed, 30 Apr 2025) EllapsedTime: 24.7 seconds RetCode: 0 Status: OK