Package: cageminer Version: 1.15.0 Command: /Library/Frameworks/R.framework/Resources/bin/R CMD check --install=check:cageminer.install-out.txt --library=/Library/Frameworks/R.framework/Resources/library --no-vignettes --timings cageminer_1.15.0.tar.gz StartedAt: 2025-05-01 18:25:58 -0400 (Thu, 01 May 2025) EndedAt: 2025-05-01 18:28:55 -0400 (Thu, 01 May 2025) EllapsedTime: 177.2 seconds RetCode: 0 Status: OK CheckDir: cageminer.Rcheck Warnings: 0