Package: cageminer Version: 1.13.0 Command: /Library/Frameworks/R.framework/Resources/bin/R CMD build --keep-empty-dirs --no-resave-data cageminer StartedAt: 2025-01-31 15:46:40 -0500 (Fri, 31 Jan 2025) EndedAt: 2025-01-31 15:47:31 -0500 (Fri, 31 Jan 2025) EllapsedTime: 50.5 seconds RetCode: 0 Status: OK PackageFile: cageminer_1.13.0.tar.gz PackageFileSize: 1.417 MiB