Package: cTRAP Version: 1.29.0 Maintainer: Nuno Saraiva-Agostinho MaintainerEmail: nunodanielagostinho at gmail.com git_url: https://git.bioconductor.org/packages/cTRAP git_branch: devel git_last_commit: c19a6e4 git_last_commit_date: 2025-10-29 10:48:28 -0500 (Wed, 29 Oct 2025)