Package: cBioPortalData Version: 2.21.2 Command: /Library/Frameworks/R.framework/Resources/bin/R CMD check --install=check:cBioPortalData.install-out.txt --library=/Library/Frameworks/R.framework/Resources/library --no-vignettes --timings cBioPortalData_2.21.2.tar.gz StartedAt: 2025-05-18 19:26:11 -0400 (Sun, 18 May 2025) EndedAt: 2025-05-18 19:32:18 -0400 (Sun, 18 May 2025) EllapsedTime: 366.4 seconds RetCode: 0 Status: OK CheckDir: cBioPortalData.Rcheck Warnings: 0