Package: cBioPortalData Version: 2.21.2 Command: /Library/Frameworks/R.framework/Resources/bin/R CMD INSTALL cBioPortalData StartedAt: 2025-05-20 15:22:23 -0400 (Tue, 20 May 2025) EndedAt: 2025-05-20 15:22:40 -0400 (Tue, 20 May 2025) EllapsedTime: 17.7 seconds RetCode: 0 Status: OK