Package: bumphunter Version: 1.51.1 Command: /home/biocbuild/bbs-3.22-bioc/R/bin/R CMD INSTALL bumphunter StartedAt: 2025-10-23 15:42:47 -0400 (Thu, 23 Oct 2025) EndedAt: 2025-10-23 15:43:29 -0400 (Thu, 23 Oct 2025) EllapsedTime: 41.9 seconds RetCode: 0 Status: OK