Package: bumphunter Version: 1.51.1 Command: /home/biocbuild/bbs-3.22-bioc/R/bin/R CMD build --keep-empty-dirs --no-resave-data --md5 bumphunter StartedAt: 2025-10-23 16:38:45 -0400 (Thu, 23 Oct 2025) EndedAt: 2025-10-23 16:39:33 -0400 (Thu, 23 Oct 2025) EllapsedTime: 48.0 seconds RetCode: 0 Status: OK PackageFile: bumphunter_1.51.1.tar.gz PackageFileSize: 2.368 MiB