Package: bugsigdbr Version: 1.15.3 Command: /home/biocbuild/bbs-3.22-bioc/R/bin/R CMD INSTALL bugsigdbr StartedAt: 2025-10-02 15:10:35 -0400 (Thu, 02 Oct 2025) EndedAt: 2025-10-02 15:10:44 -0400 (Thu, 02 Oct 2025) EllapsedTime: 9.2 seconds RetCode: 0 Status: OK