Package: bugsigdbr Version: 1.13.6 Maintainer: Ludwig Geistlinger MaintainerEmail: ludwig.geistlinger at gmail.com git_url: https://git.bioconductor.org/packages/bugsigdbr git_branch: devel git_last_commit: 6fe57ed git_last_commit_date: 2025-04-07 16:08:35 -0400 (Mon, 07 Apr 2025)