Package: bsseq Version: 1.45.2 Command: rm -rf bsseq.buildbin-libdir && mkdir bsseq.buildbin-libdir && F:\biocbuild\bbs-3.22-bioc\R\bin\R.exe CMD INSTALL --build --library=bsseq.buildbin-libdir bsseq_1.45.2.tar.gz StartedAt: 2025-08-15 09:52:31 -0400 (Fri, 15 Aug 2025) EndedAt: 2025-08-15 09:54:11 -0400 (Fri, 15 Aug 2025) EllapsedTime: 99.7 seconds RetCode: 0 Status: OK PackageFile: bsseq_1.45.2.zip PackageFileSize: 3.98 MiB