Package: broadSeq Version: 1.3.3 Command: rm -rf broadSeq.buildbin-libdir && mkdir broadSeq.buildbin-libdir && F:\biocbuild\bbs-3.22-bioc\R\bin\R.exe CMD INSTALL --build --library=broadSeq.buildbin-libdir broadSeq_1.3.3.tar.gz StartedAt: 2025-08-15 09:52:15 -0400 (Fri, 15 Aug 2025) EndedAt: 2025-08-15 09:53:06 -0400 (Fri, 15 Aug 2025) EllapsedTime: 51.7 seconds RetCode: 0 Status: OK PackageFile: broadSeq_1.3.3.zip PackageFileSize: 2.954 MiB