Package: brendaDb Version: 1.23.0 Command: /home/biocbuild/R/R/bin/R CMD build --keep-empty-dirs --no-resave-data brendaDb StartedAt: 2025-10-16 23:41:03 -0000 (Thu, 16 Oct 2025) EndedAt: 2025-10-16 23:41:39 -0000 (Thu, 16 Oct 2025) EllapsedTime: 36.0 seconds RetCode: 0 Status: OK PackageFile: brendaDb_1.23.0.tar.gz PackageFileSize: 719.8 KiB