Package: breakpointR Version: 1.27.0 Command: rm -rf breakpointR.buildbin-libdir && mkdir breakpointR.buildbin-libdir && F:\biocbuild\bbs-3.22-bioc\R\bin\R.exe CMD INSTALL --build --library=breakpointR.buildbin-libdir breakpointR_1.27.0.tar.gz StartedAt: 2025-08-15 09:52:02 -0400 (Fri, 15 Aug 2025) EndedAt: 2025-08-15 09:52:56 -0400 (Fri, 15 Aug 2025) EllapsedTime: 53.7 seconds RetCode: 0 Status: OK PackageFile: breakpointR_1.27.0.zip PackageFileSize: 557.4 KiB