Package: branchpointer Version: 1.33.0 Command: /home/biocbuild/R/R/bin/R CMD build --keep-empty-dirs --no-resave-data branchpointer StartedAt: 2025-01-28 21:27:15 -0000 (Tue, 28 Jan 2025) EndedAt: 2025-01-28 21:28:46 -0000 (Tue, 28 Jan 2025) EllapsedTime: 91.0 seconds RetCode: 1 Status: ERROR PackageFile: None PackageFileSize: NA