Package: branchpointer Version: 1.35.0 Command: /Library/Frameworks/R.framework/Resources/bin/R CMD INSTALL branchpointer StartedAt: 2025-05-04 15:18:44 -0400 (Sun, 04 May 2025) EndedAt: 2025-05-04 15:19:07 -0400 (Sun, 04 May 2025) EllapsedTime: 23.2 seconds RetCode: 0 Status: OK