Package: borealis Version: 1.13.0 Maintainer: Garrett Jenkinson MaintainerEmail: gargar934 at gmail.com git_url: https://git.bioconductor.org/packages/borealis git_branch: devel git_last_commit: eac7e83 git_last_commit_date: 2025-04-15 12:49:57 -0400 (Tue, 15 Apr 2025)