Package: bnem Version: 1.17.0 Command: rm -rf bnem.buildbin-libdir && mkdir bnem.buildbin-libdir && /Users/biocbuild/BBS/utils/build-universal.sh bnem_1.17.0.tar.gz /Library/Frameworks/R.framework/Resources/bin/R bnem.buildbin-libdir StartedAt: 2025-10-08 22:40:40 -0400 (Wed, 08 Oct 2025) EndedAt: 2025-10-08 22:40:55 -0400 (Wed, 08 Oct 2025) EllapsedTime: 15.3 seconds RetCode: 0 Status: OK PackageFile: bnem_1.17.0.tgz PackageFileSize: 1.96 MiB