Package: bnbc Version: 1.31.1 Command: chmod a+r bnbc -R && F:\biocbuild\bbs-3.22-bioc\R\bin\R.exe CMD build --keep-empty-dirs --no-resave-data bnbc StartedAt: 2025-08-14 18:49:51 -0400 (Thu, 14 Aug 2025) EndedAt: 2025-08-14 18:52:02 -0400 (Thu, 14 Aug 2025) EllapsedTime: 130.7 seconds RetCode: 0 Status: OK PackageFile: bnbc_1.31.1.tar.gz PackageFileSize: 4.152 MiB