Package: bnbc Version: 1.31.1 Command: /home/biocbuild/bbs-3.22-bioc/R/bin/R CMD INSTALL bnbc StartedAt: 2025-10-08 15:42:52 -0400 (Wed, 08 Oct 2025) EndedAt: 2025-10-08 15:43:41 -0400 (Wed, 08 Oct 2025) EllapsedTime: 48.9 seconds RetCode: 0 Status: OK