Package: bnbc Version: 1.29.0 Command: /home/biocbuild/bbs-3.21-bioc/R/bin/R CMD INSTALL bnbc StartedAt: 2025-02-03 15:39:06 -0500 (Mon, 03 Feb 2025) EndedAt: 2025-02-03 15:39:48 -0500 (Mon, 03 Feb 2025) EllapsedTime: 42.1 seconds RetCode: 0 Status: OK