Package: bnbc Version: 1.31.0 Command: /Library/Frameworks/R.framework/Resources/bin/R CMD INSTALL bnbc StartedAt: 2025-05-01 15:25:14 -0400 (Thu, 01 May 2025) EndedAt: 2025-05-01 15:26:12 -0400 (Thu, 01 May 2025) EllapsedTime: 57.5 seconds RetCode: 0 Status: OK