Package: bnbc Version: 1.31.1 Command: rm -rf bnbc.buildbin-libdir && mkdir bnbc.buildbin-libdir && /Users/biocbuild/BBS/utils/build-universal.sh bnbc_1.31.1.tar.gz /Library/Frameworks/R.framework/Resources/bin/R bnbc.buildbin-libdir StartedAt: 2025-10-10 02:25:07 -0400 (Fri, 10 Oct 2025) EndedAt: 2025-10-10 02:26:12 -0400 (Fri, 10 Oct 2025) EllapsedTime: 64.2 seconds RetCode: 0 Status: OK PackageFile: bnbc_1.31.1.tgz PackageFileSize: 4.535 MiB