Package: bluster Version: 1.19.0 Command: /home/biocbuild/bbs-3.22-bioc/R/bin/R CMD INSTALL bluster StartedAt: 2025-10-01 15:16:54 -0400 (Wed, 01 Oct 2025) EndedAt: 2025-10-01 15:17:16 -0400 (Wed, 01 Oct 2025) EllapsedTime: 21.8 seconds RetCode: 0 Status: OK