Package: blima Version: 1.41.0 Command: E:\biocbuild\bbs-3.21-bioc\R\bin\R.exe CMD INSTALL blima StartedAt: 2025-02-16 15:48:03 -0500 (Sun, 16 Feb 2025) EndedAt: 2025-02-16 15:50:24 -0500 (Sun, 16 Feb 2025) EllapsedTime: 141.1 seconds RetCode: 0 Status: OK