Package: blima Version: 1.41.0 Command: /Library/Frameworks/R.framework/Resources/bin/R CMD INSTALL blima StartedAt: 2025-02-16 15:19:25 -0500 (Sun, 16 Feb 2025) EndedAt: 2025-02-16 15:19:57 -0500 (Sun, 16 Feb 2025) EllapsedTime: 32.1 seconds RetCode: 0 Status: OK