Package: blase Version: 0.99.3 Command: /home/biocbuild/bbs-3.22-bioc/R/bin/R CMD INSTALL blase StartedAt: 2025-10-07 15:56:11 -0400 (Tue, 07 Oct 2025) EndedAt: 2025-10-07 15:56:54 -0400 (Tue, 07 Oct 2025) EllapsedTime: 42.1 seconds RetCode: 0 Status: OK