Package: blase Version: 0.99.3 Command: /home/biocbuild/bbs-3.22-bioc/R/bin/R CMD build --keep-empty-dirs --no-resave-data --md5 blase StartedAt: 2025-10-06 16:30:29 -0400 (Mon, 06 Oct 2025) EndedAt: 2025-10-06 16:45:31 -0400 (Mon, 06 Oct 2025) EllapsedTime: 901.8 seconds RetCode: 0 Status: OK PackageFile: blase_0.99.3.tar.gz PackageFileSize: 8.614 MiB