Package: blase Version: 0.99.5 Command: /Library/Frameworks/R.framework/Resources/bin/R CMD INSTALL blase StartedAt: 2025-10-24 15:53:33 -0400 (Fri, 24 Oct 2025) EndedAt: 2025-10-24 15:54:31 -0400 (Fri, 24 Oct 2025) EllapsedTime: 58.6 seconds RetCode: 0 Status: OK