Package: blase Version: 0.99.5 Command: /Library/Frameworks/R.framework/Resources/bin/R CMD build --keep-empty-dirs --no-resave-data blase StartedAt: 2025-10-24 16:21:02 -0400 (Fri, 24 Oct 2025) EndedAt: 2025-10-24 16:36:19 -0400 (Fri, 24 Oct 2025) EllapsedTime: 916.7 seconds RetCode: 0 Status: OK PackageFile: blase_0.99.5.tar.gz PackageFileSize: 8.523 MiB