Package: blase Version: 0.99.5 Command: rm -rf blase.buildbin-libdir && mkdir blase.buildbin-libdir && /Users/biocbuild/BBS/utils/build-universal.sh blase_0.99.5.tar.gz /Library/Frameworks/R.framework/Resources/bin/R blase.buildbin-libdir StartedAt: 2025-10-25 01:30:17 -0400 (Sat, 25 Oct 2025) EndedAt: 2025-10-25 01:31:20 -0400 (Sat, 25 Oct 2025) EllapsedTime: 63.2 seconds RetCode: 0 Status: OK PackageFile: blase_0.99.5.tgz PackageFileSize: 8.891 MiB