Package: blase Version: 0.99.5 Command: /Library/Frameworks/R.framework/Resources/bin/R CMD INSTALL blase StartedAt: 2025-10-15 15:30:21 -0400 (Wed, 15 Oct 2025) EndedAt: 2025-10-15 15:30:41 -0400 (Wed, 15 Oct 2025) EllapsedTime: 20.6 seconds RetCode: 0 Status: OK