Package: blase Version: 0.99.5 Command: /Library/Frameworks/R.framework/Resources/bin/R CMD build --keep-empty-dirs --no-resave-data blase StartedAt: 2025-10-15 15:47:56 -0400 (Wed, 15 Oct 2025) EndedAt: 2025-10-15 15:55:38 -0400 (Wed, 15 Oct 2025) EllapsedTime: 462.3 seconds RetCode: 0 Status: OK PackageFile: blase_0.99.5.tar.gz PackageFileSize: 8.627 MiB