Package: blase Version: 0.99.5 Command: rm -rf blase.buildbin-libdir && mkdir blase.buildbin-libdir && /Users/biocbuild/BBS/utils/build-universal.sh blase_0.99.5.tar.gz /Library/Frameworks/R.framework/Resources/bin/R blase.buildbin-libdir StartedAt: 2025-10-15 22:38:46 -0400 (Wed, 15 Oct 2025) EndedAt: 2025-10-15 22:39:05 -0400 (Wed, 15 Oct 2025) EllapsedTime: 18.3 seconds RetCode: 0 Status: OK PackageFile: blase_0.99.5.tgz PackageFileSize: 9 MiB