Package: blase Version: 1.1.0 Maintainer: Andrew McCluskey MaintainerEmail: 2117532m at student.gla.ac.uk git_url: https://git.bioconductor.org/packages/blase git_branch: devel git_last_commit: 7118ee1 git_last_commit_date: 2025-10-29 11:38:12 -0500 (Wed, 29 Oct 2025)