Package: blacksheepr Version: 1.23.0 Command: /home/biocbuild/R/R/bin/R CMD INSTALL blacksheepr StartedAt: 2025-10-16 21:48:43 -0000 (Thu, 16 Oct 2025) EndedAt: 2025-10-16 21:49:15 -0000 (Thu, 16 Oct 2025) EllapsedTime: 32.6 seconds RetCode: 0 Status: OK