Package: blacksheepr Version: 1.23.0 Command: /home/biocbuild/R/R/bin/R CMD build --keep-empty-dirs --no-resave-data blacksheepr StartedAt: 2025-10-16 23:37:06 -0000 (Thu, 16 Oct 2025) EndedAt: 2025-10-16 23:40:35 -0000 (Thu, 16 Oct 2025) EllapsedTime: 209.1 seconds RetCode: 0 Status: OK PackageFile: blacksheepr_1.23.0.tar.gz PackageFileSize: 4.032 MiB